BEGIN:VCALENDAR
VERSION:2.0
PRODID:-//Ville de Grigny-sur-Rhône - ECPv5.16.0//NONSGML v1.0//EN
CALSCALE:GREGORIAN
METHOD:PUBLISH
X-WR-CALNAME:Ville de Grigny-sur-Rhône
X-ORIGINAL-URL:https://www.grignysurrhone.fr
X-WR-CALDESC:évènements pour Ville de Grigny-sur-Rhône
REFRESH-INTERVAL;VALUE=DURATION:PT1H
X-Robots-Tag:noindex
X-PUBLISHED-TTL:PT1H
BEGIN:VTIMEZONE
TZID:Europe/Paris
BEGIN:DAYLIGHT
TZOFFSETFROM:+0100
TZOFFSETTO:+0200
TZNAME:CEST
DTSTART:20240331T010000
END:DAYLIGHT
BEGIN:STANDARD
TZOFFSETFROM:+0200
TZOFFSETTO:+0100
TZNAME:CET
DTSTART:20241027T010000
END:STANDARD
END:VTIMEZONE
BEGIN:VEVENT
DTSTART;VALUE=DATE:20240408
DTEND;VALUE=DATE:20240420
DTSTAMP:20260419T145111
CREATED:20240321T140045Z
LAST-MODIFIED:20240322T144747Z
UID:5847-1712534400-1713571199@www.grignysurrhone.fr
SUMMARY:Quinzaine des connexions 2024
DESCRIPTION:Découvrez la deuxième édition de la Quinzaine des connexions\, qui se déroulera du 8 au 19 avril 2024 ! Explorez les enjeux et les plaisirs de la vie connectée lors de cet événement riche en activités et en échanges à destination des enfants\, familles et séniors. \nProgramme de la quinzaine : \nLundi 8 avril :\n17h à 19h : ateliers bidouilles : le web & moi ? – Centre socioculturel \nMardi 9 avril :\n8h30 à 9h30 : Café des parents – École Irène Joliot Curie\n14h30 à 16h : Atelier STOP aux arnaques – Médiathèque \nMercredi 10 avril : \n8h à 12h : Atelier prévention des addictions écrans – Collège E. Malfroy\n14h : Escape game – Centre socioculturel\n16h à 17h : Petit cinéma – Médiathèque \nJeudi 11 avril :\n8h30 à 9h30 : Café des parents – École Pasteur\nToute la journée : Journée sans jeux – Crèche Griminys \nVendredi 12 avril :\n8h30 à 9h30 : Café des parents – École Tissot\n19h : Spectacle «AIR» Humour\, poésie et enjeux scientifiques – Centre Brenot \nSamedi 13 avril :\n15h : Café Blabla : Rencontre avec un auteur de BD sur l’IA – Médiathèque \nMardi 16 avril :\n14h30 : Projection du film «Ready Player One» – Centre Brenot\n14h30 à 17h : Atelier expérimentations et découvertes autour de créations numériques – Local tant de partage \nMercredi 17 avril :\n14h : Jeux intergénérationnels et multimédias – Gymnase Favier\n16h à 18h : Atelier robotique : base de la programmation – Médiathèque \nJeudi 18 avril :\n14h à 16h30 : Découverte des métiers en réalité virtuelle – Médiathèque \nVendredi 19 avril :\n15h à 18h30 : Forum des connexions : ateliers et animations – Centre Brenot (buvette sur place) \nDu 8 au 19 avril :\nExposition « Légende urbaine : données\, donnez-moi des données » – Centre socioculturel \nTéléchargez le programme ICI \nGratuit\nOuvert à tous
URL:https://www.grignysurrhone.fr/event/quinzaine-des-connexions-2024/
CATEGORIES:Enfance -Jeunesse
ATTACH;FMTTYPE=image/jpeg:https://www.grignysurrhone.fr/app/uploads/2024/03/affiche-quinzaine-des-connexions-24-carre.jpg
ORGANIZER;CN="Ville%20de%20Grigny":MAILTO:accueil@grignysurrhone.fr
END:VEVENT
BEGIN:VEVENT
DTSTART;TZID=Europe/Paris:20240413T100000
DTEND;TZID=Europe/Paris:20240413T120000
DTSTAMP:20260419T145111
CREATED:20240227T153944Z
LAST-MODIFIED:20240227T153944Z
UID:5684-1713002400-1713009600@www.grignysurrhone.fr
SUMMARY:Animation Le Loup en Slip
DESCRIPTION:La médiathèque Léo Ferré propose une animation « Le Loup en Slip » SAMEDI 13 AVRIL à 10h qui promet de vous plonger dans l’univers décalé et hilarant d’un loup pas comme les autres. \nGratuit
URL:https://www.grignysurrhone.fr/event/animation-le-loup-en-slip/
CATEGORIES:Enfance -Jeunesse
ATTACH;FMTTYPE=image/jpeg:https://www.grignysurrhone.fr/app/uploads/2024/02/loup-en-slip-carre.jpg
ORGANIZER;CN="m%C3%A9diatheque%20l%C3%A9o%20ferr%C3%A9":MAILTO:mediatheque@grignysurrhone.fr
END:VEVENT
BEGIN:VEVENT
DTSTART;TZID=Europe/Paris:20240413T170000
DTEND;TZID=Europe/Paris:20240413T220000
DTSTAMP:20260419T145111
CREATED:20240403T090809Z
LAST-MODIFIED:20240403T101843Z
UID:5912-1713027600-1713045600@www.grignysurrhone.fr
SUMMARY:Couleurs d'Afrique
DESCRIPTION:Le Comité de Jumelage Grigny-Koupela organise COULEURS D’AFRIQUE\,  le Samedi 13 Avril 2024\,  à partir de 17 heures\,  au Centre Brenot. \nAu programme : \n\nApéro bal poussière\nRepas avec le groupe Niaramy\nAteliers enfants\nMusique\nMarché africain solidaire\nDessins animés\n\n  \nRenseignements\ngrignykoupela69@gmail.com\n06 73 44 26 22
URL:https://www.grignysurrhone.fr/event/couleurs-dafrique-2/
CATEGORIES:Culture
ATTACH;FMTTYPE=image/jpeg:https://www.grignysurrhone.fr/app/uploads/2024/04/capture-decran-2024-04-03-a-110638-petite.jpeg
ORGANIZER;CN="Comit%C3%A9%20de%20jumelage%20Grigny%20Koupela":MAILTO:grignykoupela69@gmail.com
END:VEVENT
END:VCALENDAR