BEGIN:VCALENDAR
VERSION:2.0
PRODID:-//Ville de Grigny-sur-Rhône - ECPv5.16.0//NONSGML v1.0//EN
CALSCALE:GREGORIAN
METHOD:PUBLISH
X-WR-CALNAME:Ville de Grigny-sur-Rhône
X-ORIGINAL-URL:https://www.grignysurrhone.fr
X-WR-CALDESC:évènements pour Ville de Grigny-sur-Rhône
REFRESH-INTERVAL;VALUE=DURATION:PT1H
X-Robots-Tag:noindex
X-PUBLISHED-TTL:PT1H
BEGIN:VTIMEZONE
TZID:Europe/Paris
BEGIN:DAYLIGHT
TZOFFSETFROM:+0100
TZOFFSETTO:+0200
TZNAME:CEST
DTSTART:20240331T010000
END:DAYLIGHT
BEGIN:STANDARD
TZOFFSETFROM:+0200
TZOFFSETTO:+0100
TZNAME:CET
DTSTART:20241027T010000
END:STANDARD
END:VTIMEZONE
BEGIN:VEVENT
DTSTART;TZID=Europe/Paris:20240406T100000
DTEND;TZID=Europe/Paris:20240406T113000
DTSTAMP:20260420T004952
CREATED:20240305T090127Z
LAST-MODIFIED:20240305T090127Z
UID:5731-1712397600-1712403000@www.grignysurrhone.fr
SUMMARY:Bébé yoga
DESCRIPTION:Séance exceptionnelle de yoga pour les enfants âgés de 3 à 7 ans : initiation au yoga parents-enfants \nSAMEDI 6 AVRIL à la médiathèque Léo Ferré \n3 séances : 10h\, 10h30 et 11h \nGratuit\nSans inscription
URL:https://www.grignysurrhone.fr/event/bebe-yoga/
CATEGORIES:Enfance -Jeunesse
ATTACH;FMTTYPE=image/jpeg:https://www.grignysurrhone.fr/app/uploads/2024/03/mother-daughter-training-gym-carre.jpg
ORGANIZER;CN="m%C3%A9diatheque%20l%C3%A9o%20ferr%C3%A9":MAILTO:mediatheque@grignysurrhone.fr
END:VEVENT
BEGIN:VEVENT
DTSTART;TZID=Europe/Paris:20240406T150000
DTEND;TZID=Europe/Paris:20240406T170000
DTSTAMP:20260420T004952
CREATED:20240227T153527Z
LAST-MODIFIED:20240403T101818Z
UID:5681-1712415600-1712422800@www.grignysurrhone.fr
SUMMARY:Pièce de théâtre "La démambrée"
DESCRIPTION:La compagnie Sans Faire de Bruit vous propose une pièce de théâtre\, intitulée « La Démembrée »\, SAMEDI 6 AVRIL à 15h à la médiathèque Léo Ferré. \nCette pièce de théâtre immersive se déroule en 1909 autour du mystère d’un meurtre de femme de la haute société. Deux femmes entreprennent de résoudre l’enquête malgré les préjugés de l’époque qui les sousestiment. L’histoire mêle suspense et humour\, avec un crime rocambolesque\, une récompense à la clé\, et une réunion entre témoins et experts du crime. \nLe spectacle promet d’être vif\, drôle et captivant\, avec des personnages en quête de leur propre vérité. \nUn polar pensé\, écrit et joué par Sophie Falda-Buscaiot et Juline Grangé. \nÀ partir de 8 ans\nGratuit
URL:https://www.grignysurrhone.fr/event/quai-du-polar/
CATEGORIES:Culture
ATTACH;FMTTYPE=image/jpeg:https://www.grignysurrhone.fr/app/uploads/2024/02/la-demembree.jpg
ORGANIZER;CN="Ville%20de%20Grigny":MAILTO:accueil@grignysurrhone.fr
END:VEVENT
END:VCALENDAR