BEGIN:VCALENDAR
VERSION:2.0
PRODID:-//Ville de Grigny-sur-Rhône - ECPv5.16.0//NONSGML v1.0//EN
CALSCALE:GREGORIAN
METHOD:PUBLISH
X-WR-CALNAME:Ville de Grigny-sur-Rhône
X-ORIGINAL-URL:https://www.grignysurrhone.fr
X-WR-CALDESC:évènements pour Ville de Grigny-sur-Rhône
REFRESH-INTERVAL;VALUE=DURATION:PT1H
X-Robots-Tag:noindex
X-PUBLISHED-TTL:PT1H
BEGIN:VTIMEZONE
TZID:Europe/Paris
BEGIN:DAYLIGHT
TZOFFSETFROM:+0100
TZOFFSETTO:+0200
TZNAME:CEST
DTSTART:20240331T010000
END:DAYLIGHT
BEGIN:STANDARD
TZOFFSETFROM:+0200
TZOFFSETTO:+0100
TZNAME:CET
DTSTART:20241027T010000
END:STANDARD
END:VTIMEZONE
BEGIN:VEVENT
DTSTART;TZID=Europe/Paris:20240323T090000
DTEND;TZID=Europe/Paris:20240323T180000
DTSTAMP:20260420T223107
CREATED:20240122T100202Z
LAST-MODIFIED:20240206T154915Z
UID:5524-1711184400-1711216800@www.grignysurrhone.fr
SUMMARY:Journée de la petite enfance 2024
DESCRIPTION:Rendez-vous le SAMEDI 23 MARS de 9h à 12h30 et de 15h à 18h au Pôle Enfance Robert Malfroy pour la deuxième édition de la Journée de la petite enfance. \nLe thème de cette année « Viens je t’emmène » est une invitation au voyage. Une invitation de l’enfant vers l’adulte. \nCette journée\, spécialement conçue pour les enfants de 0 à 6 ans\, proposera une variété d’animations inclusives\, des spectacles\, et bien d’autres surprises pour les familles ! \nGratuit et ouvert à tous
URL:https://www.grignysurrhone.fr/event/journee-de-la-petite-enfance-2024/
CATEGORIES:Enfance -Jeunesse
ATTACH;FMTTYPE=image/jpeg:https://www.grignysurrhone.fr/app/uploads/2024/01/affiche-journee-petite-enfance-24-carre.jpg
ORGANIZER;CN="Ville%20de%20Grigny":MAILTO:accueil@grignysurrhone.fr
END:VEVENT
BEGIN:VEVENT
DTSTART;TZID=Europe/Paris:20240323T090000
DTEND;TZID=Europe/Paris:20240324T180000
DTSTAMP:20260420T223107
CREATED:20240122T101413Z
LAST-MODIFIED:20240122T101413Z
UID:5529-1711184400-1711303200@www.grignysurrhone.fr
SUMMARY:Bourse aux Minéraux & Fossiles
DESCRIPTION:Les 23 et 24 mars au centre Brenot\, l’Amicale Laïque en collaboration avec la Ville de Grigny propose la 40ème édition de la Bourse aux Minéraux & Fossiles. \nL’exposition de cette année mettra en lumière le thème passionnant des pegmatites\, mines d’éléments rares. L’association française de microminéralogie présentera un stand où les visiteurs pourront contempler des merveilles microcristallisées. \n\nSamedi 9h à 19h\nDimanche 9h à 18h\nEntrée : 2€ / enfants 6 à 14 ans : 1€ / moins de 6 ans : gratuit\n\nContact\nalgrigny69@free.fr\n04 78 73 06 61
URL:https://www.grignysurrhone.fr/event/bourse-aux-mineraux-fossiles-2/
CATEGORIES:Vie associative
ATTACH;FMTTYPE=image/jpeg:https://www.grignysurrhone.fr/app/uploads/2024/01/affiche-bourse-aux-mineraux-24-carre.jpg
END:VEVENT
BEGIN:VEVENT
DTSTART;TZID=Europe/Paris:20240323T150000
DTEND;TZID=Europe/Paris:20240323T170000
DTSTAMP:20260420T223107
CREATED:20240227T152632Z
LAST-MODIFIED:20240227T152632Z
UID:5676-1711206000-1711213200@www.grignysurrhone.fr
SUMMARY:Grande Dictée 2024
DESCRIPTION:Venez participer à la traditionnelle Grande dictée\, organisée dans le cadre de la Semaine de la langue française et de la francophonie SAMEDI 23 MARS à 15h à la médiathèque Léo Ferré. \nDeux niveaux de difficulté sont prévus : dictée jeunes et dictée adultes pour les plus aguerris ! \nDes lots sont à gagner ! \nGratuit et ouvert à tous \nMatériel fourni\nDurée 1h15\, à partir de 9 ans \nBilletterie ICI
URL:https://www.grignysurrhone.fr/event/grande-dictee-2024/
CATEGORIES:Culture
ATTACH;FMTTYPE=image/jpeg:https://www.grignysurrhone.fr/app/uploads/2024/02/grande-dictee.jpg
ORGANIZER;CN="Ville%20de%20Grigny":MAILTO:accueil@grignysurrhone.fr
END:VEVENT
END:VCALENDAR