BEGIN:VCALENDAR
VERSION:2.0
PRODID:-//Ville de Grigny-sur-Rhône - ECPv5.16.0//NONSGML v1.0//EN
CALSCALE:GREGORIAN
METHOD:PUBLISH
X-ORIGINAL-URL:https://www.grignysurrhone.fr
X-WR-CALDESC:évènements pour Ville de Grigny-sur-Rhône
REFRESH-INTERVAL;VALUE=DURATION:PT1H
X-Robots-Tag:noindex
X-PUBLISHED-TTL:PT1H
BEGIN:VTIMEZONE
TZID:Europe/Paris
BEGIN:DAYLIGHT
TZOFFSETFROM:+0100
TZOFFSETTO:+0200
TZNAME:CEST
DTSTART:20240331T010000
END:DAYLIGHT
BEGIN:STANDARD
TZOFFSETFROM:+0200
TZOFFSETTO:+0100
TZNAME:CET
DTSTART:20241027T010000
END:STANDARD
END:VTIMEZONE
BEGIN:VEVENT
DTSTART;TZID=Europe/Paris:20240315T200000
DTEND;TZID=Europe/Paris:20240315T220000
DTSTAMP:20260421T105440
CREATED:20240118T141930Z
LAST-MODIFIED:20240118T141952Z
UID:5512-1710532800-1710540000@www.grignysurrhone.fr
SUMMARY:Battle break dance
DESCRIPTION:Le centre Édouard Brenot vibrera au son du hip-hop lors d’une battle de breakdance enflammée le VENDREDI 15 MARS à 20h\, animée par le groupe Melting Force. \nBilletterie ICI\nGratuit -12 ans
URL:https://www.grignysurrhone.fr/event/battle-break-dance/
CATEGORIES:Enfance -Jeunesse
ATTACH;FMTTYPE=image/jpeg:https://www.grignysurrhone.fr/app/uploads/2024/01/battle-breakdance.jpg
ORGANIZER;CN="Ville%20de%20Grigny":MAILTO:accueil@grignysurrhone.fr
END:VEVENT
END:VCALENDAR