BEGIN:VCALENDAR
VERSION:2.0
PRODID:-//Ville de Grigny-sur-Rhône - ECPv5.16.0//NONSGML v1.0//EN
CALSCALE:GREGORIAN
METHOD:PUBLISH
X-ORIGINAL-URL:https://www.grignysurrhone.fr
X-WR-CALDESC:évènements pour Ville de Grigny-sur-Rhône
REFRESH-INTERVAL;VALUE=DURATION:PT1H
X-Robots-Tag:noindex
X-PUBLISHED-TTL:PT1H
BEGIN:VTIMEZONE
TZID:Europe/Paris
BEGIN:DAYLIGHT
TZOFFSETFROM:+0100
TZOFFSETTO:+0200
TZNAME:CEST
DTSTART:20240331T010000
END:DAYLIGHT
BEGIN:STANDARD
TZOFFSETFROM:+0200
TZOFFSETTO:+0100
TZNAME:CET
DTSTART:20241027T010000
END:STANDARD
END:VTIMEZONE
BEGIN:VEVENT
DTSTART;VALUE=DATE:20240302
DTEND;VALUE=DATE:20240310
DTSTAMP:20260421T213558
CREATED:20240123T092555Z
LAST-MODIFIED:20240123T092555Z
UID:5540-1709337600-1710028799@www.grignysurrhone.fr
SUMMARY:Exposition "Portraits de femmes"
DESCRIPTION:Exposition « Portraits de femmes » à la médiathèque Léo Ferré du 2 au 9 mars. \nDe la technique pointilliste au fusain\, en passant par le crayon de couleur\, cette exposition intitulée « Portraits de femmes » présente une diversité de dessins et de photographies mettant en lumière la féminité. \nNathalie\, l’artiste derrière cette collection\, s’efforce de saisir une attitude\, un regard\, une émotion\, créant ainsi une rencontre intime avec le sujet féminin. \nÀ travers cette galerie de portraits\, l’objectif est de dévoiler la vie qui se cache derrière chaque visage\, considérant celui-ci comme un paysage reflétant l’état profond de l’âme. \nGratuit et ouvert à tous
URL:https://www.grignysurrhone.fr/event/exposition-portraits-de-femmes/
CATEGORIES:Culture
ATTACH;FMTTYPE=image/jpeg:https://www.grignysurrhone.fr/app/uploads/2024/01/portraits-de-femmes.jpg
ORGANIZER;CN="m%C3%A9diatheque%20l%C3%A9o%20ferr%C3%A9":MAILTO:mediatheque@grignysurrhone.fr
END:VEVENT
BEGIN:VEVENT
DTSTART;TZID=Europe/Paris:20240308T200000
DTEND;TZID=Europe/Paris:20240308T230000
DTSTAMP:20260421T213558
CREATED:20240306T082801Z
LAST-MODIFIED:20240306T082801Z
UID:5738-1709928000-1709938800@www.grignysurrhone.fr
SUMMARY:Conseil Municipal
DESCRIPTION:La prochaine séance du Conseil Municipal aura lieu le VENDREDI 8 MARS à 20h en mairie
URL:https://www.grignysurrhone.fr/event/conseil-municipal-8/
CATEGORIES:Vie municipale
ATTACH;FMTTYPE=image/jpeg:https://www.grignysurrhone.fr/app/uploads/2023/01/visu-conseil-municipal.jpg
ORGANIZER;CN="Ville%20de%20Grigny":MAILTO:accueil@grignysurrhone.fr
END:VEVENT
END:VCALENDAR