BEGIN:VCALENDAR
VERSION:2.0
PRODID:-//Ville de Grigny-sur-Rhône - ECPv5.16.0//NONSGML v1.0//EN
CALSCALE:GREGORIAN
METHOD:PUBLISH
X-WR-CALNAME:Ville de Grigny-sur-Rhône
X-ORIGINAL-URL:https://www.grignysurrhone.fr
X-WR-CALDESC:évènements pour Ville de Grigny-sur-Rhône
REFRESH-INTERVAL;VALUE=DURATION:PT1H
X-Robots-Tag:noindex
X-PUBLISHED-TTL:PT1H
BEGIN:VTIMEZONE
TZID:Europe/Paris
BEGIN:DAYLIGHT
TZOFFSETFROM:+0100
TZOFFSETTO:+0200
TZNAME:CEST
DTSTART:20240331T010000
END:DAYLIGHT
BEGIN:STANDARD
TZOFFSETFROM:+0200
TZOFFSETTO:+0100
TZNAME:CET
DTSTART:20241027T010000
END:STANDARD
END:VTIMEZONE
BEGIN:VEVENT
DTSTART;VALUE=DATE:20240207
DTEND;VALUE=DATE:20240216
DTSTAMP:20260423T074543
CREATED:20240103T134555Z
LAST-MODIFIED:20240103T134555Z
UID:5439-1707264000-1708041599@www.grignysurrhone.fr
SUMMARY:Exposition photos #COMMETOI
DESCRIPTION:La médiathèque Léo Ferré accueille l’exposition photos #COMMETOI DU 7 AU 15 FÉVRIER dans le cadre de la Grande Semaine des Coccinelles\, événement qui a pour objectif la sensibilisation à la différence. \nCette exposition\, conjointe de l’association DNA et Arnaud Desrue photography\, invite à une réflexion profonde et émouvante sur l’essence de l’humanité\, qui aspire à réveiller l’empathie et la compréhension profondes qui résident en chacun de nous. \nGratuit
URL:https://www.grignysurrhone.fr/event/exposition-photos-commetoi/
CATEGORIES:Enfance -Jeunesse
ATTACH;FMTTYPE=image/jpeg:https://www.grignysurrhone.fr/app/uploads/2024/01/commetoi.jpg
ORGANIZER;CN="Ville%20de%20Grigny":MAILTO:accueil@grignysurrhone.fr
END:VEVENT
BEGIN:VEVENT
DTSTART;TZID=Europe/Paris:20240215T164500
DTEND;TZID=Europe/Paris:20240215T174500
DTSTAMP:20260423T074543
CREATED:20240115T134954Z
LAST-MODIFIED:20240115T134954Z
UID:5489-1708015500-1708019100@www.grignysurrhone.fr
SUMMARY:Ateliers parents enfants
DESCRIPTION:Des ateliers Parents-Enfants (de 0 à 6 ans) sont organisés à la crèche Griminys ou au Relais Petite Enfance. \nRendez-vous JEUDI 15 FÉVRIER 2024 au Relais Petite Enfance de 16h45 à 17h45 \nCarnaval : crêpes et bulles de savon (venez déguisés !) \n  \nInscription : 04 72 49 51 76 ou relais@grignysurrhone.fr
URL:https://www.grignysurrhone.fr/event/ateliers-parents-enfants-4/
CATEGORIES:Enfance -Jeunesse
ATTACH;FMTTYPE=image/jpeg:https://www.grignysurrhone.fr/app/uploads/2024/01/crepes-et-bulles.jpg
END:VEVENT
BEGIN:VEVENT
DTSTART;TZID=Europe/Paris:20240215T180000
DTEND;TZID=Europe/Paris:20240215T200000
DTSTAMP:20260423T074543
CREATED:20231211T154134Z
LAST-MODIFIED:20240103T133637Z
UID:5368-1708020000-1708027200@www.grignysurrhone.fr
SUMMARY:Projection "L'enfance sourde"
DESCRIPTION:Dans le cadre de la Grande Semaine des Coccinelles\, événement qui a pour objectif la sensibilisation à la différence\, projection du film documentaire « L’enfance sourde » en présence de la réalisatrice Brigitte Lemaine JEUDI 15 FÉVRIER à 18h à la médiathèque Léo Ferré. \nGratuit
URL:https://www.grignysurrhone.fr/event/lenfance-sourde/
CATEGORIES:Enfance -Jeunesse
ATTACH;FMTTYPE=image/jpeg:https://www.grignysurrhone.fr/app/uploads/2023/12/enfance-sourde.jpg
ORGANIZER;CN="Ville%20de%20Grigny":MAILTO:accueil@grignysurrhone.fr
END:VEVENT
END:VCALENDAR