BEGIN:VCALENDAR
VERSION:2.0
PRODID:-//Ville de Grigny-sur-Rhône - ECPv5.16.0//NONSGML v1.0//EN
CALSCALE:GREGORIAN
METHOD:PUBLISH
X-WR-CALNAME:Ville de Grigny-sur-Rhône
X-ORIGINAL-URL:https://www.grignysurrhone.fr
X-WR-CALDESC:évènements pour Ville de Grigny-sur-Rhône
REFRESH-INTERVAL;VALUE=DURATION:PT1H
X-Robots-Tag:noindex
X-PUBLISHED-TTL:PT1H
BEGIN:VTIMEZONE
TZID:Europe/Paris
BEGIN:DAYLIGHT
TZOFFSETFROM:+0100
TZOFFSETTO:+0200
TZNAME:CEST
DTSTART:20240331T010000
END:DAYLIGHT
BEGIN:STANDARD
TZOFFSETFROM:+0200
TZOFFSETTO:+0100
TZNAME:CET
DTSTART:20241027T010000
END:STANDARD
END:VTIMEZONE
BEGIN:VEVENT
DTSTART;TZID=Europe/Paris:20240113T150000
DTEND;TZID=Europe/Paris:20240113T163000
DTSTAMP:20260425T035323
CREATED:20231211T151940Z
LAST-MODIFIED:20231211T151940Z
UID:5362-1705158000-1705163400@www.grignysurrhone.fr
SUMMARY:Atelier de magie L’Escamoteur
DESCRIPTION:Embarquez dans l’univers féérique de Thierry Nadalini et son atelier de magie le SAMEDI 13 JANVIER à 15h à la médiathèque Léo Ferré : L’Escamoteur. \nGratuit
URL:https://www.grignysurrhone.fr/event/atelier-de-magie-lescamoteur/
CATEGORIES:Culture
ATTACH;FMTTYPE=image/jpeg:https://www.grignysurrhone.fr/app/uploads/2023/12/escamoteur.jpg
ORGANIZER;CN="Ville%20de%20Grigny":MAILTO:accueil@grignysurrhone.fr
END:VEVENT
END:VCALENDAR