BEGIN:VCALENDAR
VERSION:2.0
PRODID:-//Ville de Grigny-sur-Rhône - ECPv5.16.0//NONSGML v1.0//EN
CALSCALE:GREGORIAN
METHOD:PUBLISH
X-ORIGINAL-URL:https://www.grignysurrhone.fr
X-WR-CALDESC:évènements pour Ville de Grigny-sur-Rhône
REFRESH-INTERVAL;VALUE=DURATION:PT1H
X-Robots-Tag:noindex
X-PUBLISHED-TTL:PT1H
BEGIN:VTIMEZONE
TZID:Europe/Paris
BEGIN:DAYLIGHT
TZOFFSETFROM:+0100
TZOFFSETTO:+0200
TZNAME:CEST
DTSTART:20240331T010000
END:DAYLIGHT
BEGIN:STANDARD
TZOFFSETFROM:+0200
TZOFFSETTO:+0100
TZNAME:CET
DTSTART:20241027T010000
END:STANDARD
END:VTIMEZONE
BEGIN:VEVENT
DTSTART;TZID=Europe/Paris:20240105T190000
DTEND;TZID=Europe/Paris:20240105T210000
DTSTAMP:20260425T135344
CREATED:20231201T141640Z
LAST-MODIFIED:20231201T141640Z
UID:5321-1704481200-1704488400@www.grignysurrhone.fr
SUMMARY:Vœux du Maire
DESCRIPTION:Vendredi 5 janvier à partir de 19h\, au centre Édouard Brenot\, Xavier Odo\, maire de Grigny\, et les élus du Conseil Municipal invitent l’ensemble des Grignerots à la traditionnelle présentation des vœux pour la nouvelle année.
URL:https://www.grignysurrhone.fr/event/voeux-du-maire-2/
CATEGORIES:Vie municipale
ATTACH;FMTTYPE=image/jpeg:https://www.grignysurrhone.fr/app/uploads/2023/12/voeux-population-carre.jpg
ORGANIZER;CN="Ville%20de%20Grigny":MAILTO:accueil@grignysurrhone.fr
END:VEVENT
END:VCALENDAR