BEGIN:VCALENDAR
VERSION:2.0
PRODID:-//Ville de Grigny-sur-Rhône - ECPv5.16.0//NONSGML v1.0//EN
CALSCALE:GREGORIAN
METHOD:PUBLISH
X-WR-CALNAME:Ville de Grigny-sur-Rhône
X-ORIGINAL-URL:https://www.grignysurrhone.fr
X-WR-CALDESC:évènements pour Ville de Grigny-sur-Rhône
REFRESH-INTERVAL;VALUE=DURATION:PT1H
X-Robots-Tag:noindex
X-PUBLISHED-TTL:PT1H
BEGIN:VTIMEZONE
TZID:Europe/Paris
BEGIN:DAYLIGHT
TZOFFSETFROM:+0100
TZOFFSETTO:+0200
TZNAME:CEST
DTSTART:20230326T010000
END:DAYLIGHT
BEGIN:STANDARD
TZOFFSETFROM:+0200
TZOFFSETTO:+0100
TZNAME:CET
DTSTART:20231029T010000
END:STANDARD
END:VTIMEZONE
BEGIN:VEVENT
DTSTART;VALUE=DATE:20231205
DTEND;VALUE=DATE:20231230
DTSTAMP:20260426T040331
CREATED:20231106T154550Z
LAST-MODIFIED:20231115T161618Z
UID:5162-1701734400-1703894399@www.grignysurrhone.fr
SUMMARY:Exposition Lugdunum
DESCRIPTION:Du 5 au 29 décembre Exposition « Spectaculaire » Le divertissement chez les Romains à la médiathèque Léo Ferré \nL’exposition invite le visiteur à poser un nouveau regard sur ce symbole de puissance de la civilisation romaine et met en miroir nos pratiques actuelles du divertissement et celles de l’époque. En s’appuyant sur des dispositifs ludiques et immersifs\, cette exposition apporte des clés de compréhension pour mieux s’approprier l’univers du spectacle chez les Romains. \nGratuit\nTout public\nSans inscription
URL:https://www.grignysurrhone.fr/event/exposition-lugdunum/
CATEGORIES:Culture
ATTACH;FMTTYPE=image/jpeg:https://www.grignysurrhone.fr/app/uploads/2023/11/spectaculairecarreweb.jpg
ORGANIZER;CN="m%C3%A9diatheque%20l%C3%A9o%20ferr%C3%A9":MAILTO:mediatheque@grignysurrhone.fr
END:VEVENT
END:VCALENDAR